BEGIN:VCALENDAR
VERSION:2.0
PRODID:-//South Gippsland Landcare Network - ECPv6.15.20//NONSGML v1.0//EN
CALSCALE:GREGORIAN
METHOD:PUBLISH
X-ORIGINAL-URL:https://www.sgln.net.au
X-WR-CALDESC:Events for South Gippsland Landcare Network
REFRESH-INTERVAL;VALUE=DURATION:PT1H
X-Robots-Tag:noindex
X-PUBLISHED-TTL:PT1H
BEGIN:VTIMEZONE
TZID:Australia/Melbourne
BEGIN:STANDARD
TZOFFSETFROM:+1100
TZOFFSETTO:+1000
TZNAME:AEST
DTSTART:20240406T160000
END:STANDARD
BEGIN:DAYLIGHT
TZOFFSETFROM:+1000
TZOFFSETTO:+1100
TZNAME:AEDT
DTSTART:20241005T160000
END:DAYLIGHT
BEGIN:STANDARD
TZOFFSETFROM:+1100
TZOFFSETTO:+1000
TZNAME:AEST
DTSTART:20250405T160000
END:STANDARD
BEGIN:DAYLIGHT
TZOFFSETFROM:+1000
TZOFFSETTO:+1100
TZNAME:AEDT
DTSTART:20251004T160000
END:DAYLIGHT
BEGIN:STANDARD
TZOFFSETFROM:+1100
TZOFFSETTO:+1000
TZNAME:AEST
DTSTART:20260404T160000
END:STANDARD
BEGIN:DAYLIGHT
TZOFFSETFROM:+1000
TZOFFSETTO:+1100
TZNAME:AEDT
DTSTART:20261003T160000
END:DAYLIGHT
END:VTIMEZONE
BEGIN:VEVENT
DTSTART;TZID=Australia/Melbourne:20250302T100000
DTEND;TZID=Australia/Melbourne:20250302T123000
DTSTAMP:20260419T234650
CREATED:20250211T025533Z
LAST-MODIFIED:20250211T025533Z
UID:10609-1740909600-1740918600@www.sgln.net.au
SUMMARY:Nursery Tour and Landcare Ideas Workshop
DESCRIPTION:Inspiring the future of Landcare – Nursery Tour and Ideas Workshop\n\nThe purpose of this event is to align community member passion with environmental outcomes\, strengthening local Landcare groups and increasing participation. It is open to everyone in the local community\, not just Landcare members. The workshop component of the day will be facilitated by long time Landcarer\, the wonderful Jenny O’Sullivan. This will be followed by a guided tour of the Korumburra Landcare Group’s nursery with manager Jim Ahon.\n\nWhile we encourage any members of the community to attend\, we will be focusing the workshop activities on the areas of Loch\, Nyora\, Mt Lyall\, Poowong and Triholm.\nLunch and refreshments will provided so make sure to fill out any dietary requirements when prompted at registration.\nThis project is funded by Victorian Landcare Grants Program through Melbourne Water. \nQuestions to jane@sgln.net.au \nDetails are as follows:\n\nWhat Ideas Passion Mashing Workshop facilitated by Jenny O’Sullivan and nursery tour with Jim Ahon.\nDate Sunday 2nd March\nTime 10am-12:30pm\nLocation Korumburra Landcare Group’s nursery at Bena (address provided on registration)\nRegistration a must. Please click HERE to register.\n  \n  \n 
URL:https://www.sgln.net.au/event/nursery-tour-and-landcare-ideas-workshop/
LOCATION:VIC
CATEGORIES:Forum,Workshop
ATTACH;FMTTYPE=image/png:https://www.sgln.net.au/wp-content/uploads/2025/02/SGLN20250302_VLGevent.png
END:VEVENT
BEGIN:VEVENT
DTSTART;TZID=Australia/Melbourne:20250323T103000
DTEND;TZID=Australia/Melbourne:20250323T130000
DTSTAMP:20260419T234650
CREATED:20250225T040749Z
LAST-MODIFIED:20250225T040749Z
UID:10628-1742725800-1742734800@www.sgln.net.au
SUMMARY:Combining Community Passions - Allambee Flower Farm
DESCRIPTION:A fun and interactive session exploring people’s passions and how these can drive local activities to help the land\, water and local environment. Followed by a walking tour of the Allambee Flower Farm with Neil O’Sullivan and lunch. BYO Chair. \nFor further info contact Nick Stephens on 0499 271 251. \nRegistrations essential! \nhttps://events.humanitix.com/allambee-flower-farm-harnessing-community-passions \n 
URL:https://www.sgln.net.au/event/combining-community-passions-allambee-flower-farm/
LOCATION:VIC
ATTACH;FMTTYPE=image/jpeg:https://www.sgln.net.au/wp-content/uploads/2025/02/passion-mashin-advert.jpg
END:VEVENT
BEGIN:VEVENT
DTSTART;TZID=Australia/Melbourne:20250327T103000
DTEND;TZID=Australia/Melbourne:20250327T140000
DTSTAMP:20260419T234650
CREATED:20250304T222455Z
LAST-MODIFIED:20250304T222455Z
UID:10642-1743071400-1743084000@www.sgln.net.au
SUMMARY:Managing Biodiversity on Farms
DESCRIPTION:The West Gippsland Catchment Management Authority (WGCMA) invite you to a discussion and farm walk to hear practical advice about protecting biodiversity on your farm. Learn about potential opportunities in carbon and biodiversity markets\, and grants to support farmers protect biodiversity.  Speaker and host is ecologist Peter Gannon. Lunch provided. \nClick on link or scan QR code to register:\nhttps://www.trybooking.com/CZCYX\nFor more information contact Sam Shannon:\nEmail: sams@wgcma.vic.gov.au Phone: 0409 944 114 \nNote this is a WGCMA event\, not a Landcare event.
URL:https://www.sgln.net.au/event/managing-biodiversity-on-farms/
LOCATION:VIC
ATTACH;FMTTYPE=application/pdf:https://www.sgln.net.au/wp-content/uploads/2025/03/Flyer_Managing-biodiversity-on-farms_March-2025.pdf
END:VEVENT
END:VCALENDAR