BEGIN:VCALENDAR
VERSION:2.0
PRODID:-//South Gippsland Landcare Network - ECPv6.15.20//NONSGML v1.0//EN
CALSCALE:GREGORIAN
METHOD:PUBLISH
X-ORIGINAL-URL:https://www.sgln.net.au
X-WR-CALDESC:Events for South Gippsland Landcare Network
REFRESH-INTERVAL;VALUE=DURATION:PT1H
X-Robots-Tag:noindex
X-PUBLISHED-TTL:PT1H
BEGIN:VTIMEZONE
TZID:Australia/Melbourne
BEGIN:STANDARD
TZOFFSETFROM:+1100
TZOFFSETTO:+1000
TZNAME:AEST
DTSTART:20230401T160000
END:STANDARD
BEGIN:DAYLIGHT
TZOFFSETFROM:+1000
TZOFFSETTO:+1100
TZNAME:AEDT
DTSTART:20230930T160000
END:DAYLIGHT
BEGIN:STANDARD
TZOFFSETFROM:+1100
TZOFFSETTO:+1000
TZNAME:AEST
DTSTART:20240406T160000
END:STANDARD
BEGIN:DAYLIGHT
TZOFFSETFROM:+1000
TZOFFSETTO:+1100
TZNAME:AEDT
DTSTART:20241005T160000
END:DAYLIGHT
BEGIN:STANDARD
TZOFFSETFROM:+1100
TZOFFSETTO:+1000
TZNAME:AEST
DTSTART:20250405T160000
END:STANDARD
BEGIN:DAYLIGHT
TZOFFSETFROM:+1000
TZOFFSETTO:+1100
TZNAME:AEDT
DTSTART:20251004T160000
END:DAYLIGHT
END:VTIMEZONE
BEGIN:VEVENT
DTSTART;TZID=Australia/Melbourne:20241122T093000
DTEND;TZID=Australia/Melbourne:20241122T123000
DTSTAMP:20260420T180336
CREATED:20241113T005347Z
LAST-MODIFIED:20241113T005347Z
UID:10427-1732267800-1732278600@www.sgln.net.au
SUMMARY:Seed Collection Workshop
DESCRIPTION:Join us for a hands on workshop led by Geoff Trease from the Leongatha Seed Bank. You may be interested in collecting seed for personal use or to supply to the seed bank. \nThe session will include: \n\nwhy collect seeds?\npermits required for collecting on public land\ncollection techniques\nseed extraction and storage.\n\nWe’ll have a hands on session to try out  sifting\, cleaning\, drying\, treating and preparing your seed \nWe’ll finish with visit a local property to practice collection techniques and plant identification. Please BYO gloves and secateurs \nMorning tea included. \nRegister via this link \nMore info kirby@sgln.net.au 0480 749 731
URL:https://www.sgln.net.au/event/
CATEGORIES:Field Day,Training,Workshop
ATTACH;FMTTYPE=image/png:https://www.sgln.net.au/wp-content/uploads/2024/11/geoff-trease.png
END:VEVENT
BEGIN:VEVENT
DTSTART;TZID=Australia/Melbourne:20241127T093000
DTEND;TZID=Australia/Melbourne:20241127T140000
DTSTAMP:20260420T180336
CREATED:20241113T005956Z
LAST-MODIFIED:20241113T005956Z
UID:10431-1732699800-1732716000@www.sgln.net.au
SUMMARY:Greening Dams Workshop
DESCRIPTION:Enhancing farm dams for stock and biodiversity: Develop a plan for your farm dam \nJoin wetland ecologist David Carew to learn about enhancing your own farm dam to increase biodiversity and farm productivity. \nAt this workshop you will get started on a management plan to improve a dam on your farm. Topics covered will include fencing\, plant species selection and monitoring. \nLouise Kerferd (Melbourne Water) will share a case study on a previous dam enhancement project\, and the day will wrap up with a farm walk to hear from the farmer and view the results and changes. \nLunch and refreshments included \nThe Project\, which is funded by Food & Fibre Gippsland through the Victoria Drought Resilience Adoption and Innovation Hub. This the second round of this project. The full case study from round one can be read here. \nRegister via this link \nMore info kirby@sgln.net.au 0480 749 731
URL:https://www.sgln.net.au/event/
CATEGORIES:Field Day,Workshop
ATTACH;FMTTYPE=image/png:https://www.sgln.net.au/wp-content/uploads/2024/11/Screenshot-2024-11-13-115751.png
END:VEVENT
END:VCALENDAR