BEGIN:VCALENDAR
VERSION:2.0
PRODID:-//South Gippsland Landcare Network - ECPv6.15.20//NONSGML v1.0//EN
CALSCALE:GREGORIAN
METHOD:PUBLISH
X-WR-CALNAME:South Gippsland Landcare Network
X-ORIGINAL-URL:https://www.sgln.net.au
X-WR-CALDESC:Events for South Gippsland Landcare Network
REFRESH-INTERVAL;VALUE=DURATION:PT1H
X-Robots-Tag:noindex
X-PUBLISHED-TTL:PT1H
BEGIN:VTIMEZONE
TZID:Australia/Melbourne
BEGIN:STANDARD
TZOFFSETFROM:+1100
TZOFFSETTO:+1000
TZNAME:AEST
DTSTART:20230401T160000
END:STANDARD
BEGIN:DAYLIGHT
TZOFFSETFROM:+1000
TZOFFSETTO:+1100
TZNAME:AEDT
DTSTART:20230930T160000
END:DAYLIGHT
BEGIN:STANDARD
TZOFFSETFROM:+1100
TZOFFSETTO:+1000
TZNAME:AEST
DTSTART:20240406T160000
END:STANDARD
BEGIN:DAYLIGHT
TZOFFSETFROM:+1000
TZOFFSETTO:+1100
TZNAME:AEDT
DTSTART:20241005T160000
END:DAYLIGHT
BEGIN:STANDARD
TZOFFSETFROM:+1100
TZOFFSETTO:+1000
TZNAME:AEST
DTSTART:20250405T160000
END:STANDARD
BEGIN:DAYLIGHT
TZOFFSETFROM:+1000
TZOFFSETTO:+1100
TZNAME:AEDT
DTSTART:20251004T160000
END:DAYLIGHT
END:VTIMEZONE
BEGIN:VEVENT
DTSTART;TZID=Australia/Melbourne:20240914T100000
DTEND;TZID=Australia/Melbourne:20240914T130000
DTSTAMP:20260421T033157
CREATED:20240813T025359Z
LAST-MODIFIED:20240813T025359Z
UID:10088-1726308000-1726318800@www.sgln.net.au
SUMMARY:Community Tree Planting at Corner Inlet
DESCRIPTION:Last year a group of volunteers collected heaps of seeds from Morgan and Tom’s property down near Barry Beach as part of a grant titled “Returning the Bush”. \nWell\, those seeds have been germinated\, watered\, loved and tended and are now little plants ready to be planted into the previously farmed earth. Come along and help plant them at Morgan and Tom’s and place guards around them. \nWhen – Saturday 31 August\nTime – 10.00am start with lunch provided afterwards\nWhere – 421 Barry Road\, Welshpool\nWear – sturdy footwear\, gloves and weather appropriate clothing \nPlease RSVP to nick.stephens@sgln.net.au   and mention any dietary requirements. \nNOTE:  this is a Corner Inlet Landcare Group event.
URL:https://www.sgln.net.au/event/
CATEGORIES:Tree Planting
ATTACH;FMTTYPE=image/jpeg:https://www.sgln.net.au/wp-content/uploads/2024/08/DSCF4996.jpeg
END:VEVENT
END:VCALENDAR