BEGIN:VCALENDAR
VERSION:2.0
PRODID:-//South Gippsland Landcare Network - ECPv6.15.20//NONSGML v1.0//EN
CALSCALE:GREGORIAN
METHOD:PUBLISH
X-WR-CALNAME:South Gippsland Landcare Network
X-ORIGINAL-URL:https://www.sgln.net.au
X-WR-CALDESC:Events for South Gippsland Landcare Network
REFRESH-INTERVAL;VALUE=DURATION:PT1H
X-Robots-Tag:noindex
X-PUBLISHED-TTL:PT1H
BEGIN:VTIMEZONE
TZID:Australia/Melbourne
BEGIN:STANDARD
TZOFFSETFROM:+1100
TZOFFSETTO:+1000
TZNAME:AEST
DTSTART:20230401T160000
END:STANDARD
BEGIN:DAYLIGHT
TZOFFSETFROM:+1000
TZOFFSETTO:+1100
TZNAME:AEDT
DTSTART:20230930T160000
END:DAYLIGHT
BEGIN:STANDARD
TZOFFSETFROM:+1100
TZOFFSETTO:+1000
TZNAME:AEST
DTSTART:20240406T160000
END:STANDARD
BEGIN:DAYLIGHT
TZOFFSETFROM:+1000
TZOFFSETTO:+1100
TZNAME:AEDT
DTSTART:20241005T160000
END:DAYLIGHT
BEGIN:STANDARD
TZOFFSETFROM:+1100
TZOFFSETTO:+1000
TZNAME:AEST
DTSTART:20250405T160000
END:STANDARD
BEGIN:DAYLIGHT
TZOFFSETFROM:+1000
TZOFFSETTO:+1100
TZNAME:AEDT
DTSTART:20251004T160000
END:DAYLIGHT
END:VTIMEZONE
BEGIN:VEVENT
DTSTART;TZID=Australia/Melbourne:20240804T090000
DTEND;TZID=Australia/Melbourne:20240804T120000
DTSTAMP:20260421T083224
CREATED:20240717T023327Z
LAST-MODIFIED:20240717T023327Z
UID:10006-1722762000-1722772800@www.sgln.net.au
SUMMARY:Hilda Falls Tree Planting - Loch
DESCRIPTION:This tree planting event is being held by the Loch Nyora Landcare Group. \nHilda Falls is located on the Great Southern Rail Trail close to Loch. \nSave the Date now and get the latest details at: https://www.lochnyoralandcare.org.au/news-and-events/ \nPlease note this is not an SGLN event.
URL:https://www.sgln.net.au/event/
ATTACH;FMTTYPE=image/webp:https://www.sgln.net.au/wp-content/uploads/2024/07/hilda-falls.webp
END:VEVENT
BEGIN:VEVENT
DTSTART;TZID=Australia/Melbourne:20240810T100000
DTEND;TZID=Australia/Melbourne:20240810T130000
DTSTAMP:20260421T083224
CREATED:20240725T031528Z
LAST-MODIFIED:20240725T031528Z
UID:10014-1723284000-1723294800@www.sgln.net.au
SUMMARY:Tree Planting Opportunity - Berrys Creek\, Mirboo Nth
DESCRIPTION:Come and join us at Heather Matthies’ property\, for a tree planting to help prevent erosion along Berry’s Creek. \nHeather’s place has suffered gully erosion in the past. She has had the creek banks re-shaped and lined\, and now they need to be stabilised with trees. \nPlanting will be followed by lunch\, tea and coffee. \nBYO gloves\, sturdy shoes and weather appropriate clothing. \nTo allow for catering\, please register your interest & dietary requirements with Nick Stephens at nick.stephens@sgln.net.au (0499 271 251) \nWhen: Aug 10\, 10am-1pm (incl lunch) \nWhere: 125 Old Nichols Rd\, Mirboo North.
URL:https://www.sgln.net.au/event/
ATTACH;FMTTYPE=image/jpeg:https://www.sgln.net.au/wp-content/uploads/2024/07/mmn-erosion-day5-scaled-1.jpg
END:VEVENT
BEGIN:VEVENT
DTSTART;TZID=Australia/Melbourne:20240810T183000
DTEND;TZID=Australia/Melbourne:20240810T203000
DTSTAMP:20260421T083224
CREATED:20240725T002449Z
LAST-MODIFIED:20240725T002449Z
UID:10010-1723314600-1723321800@www.sgln.net.au
SUMMARY:Movie Night at Hallston - Rachel's Farm
DESCRIPTION:Come and see what has fast become an inspiration for regenerative agriculture. \nThe night will feature a Q&A session to explore the themes of the film. \nDoors open 6:30pm for a 7pm screening. Tea and coffee provided. BYO movie snacks. Great door prizes to be won! \nWatch the Trailer here \nFor extra details and to register your attendance go here \n 
URL:https://www.sgln.net.au/event/
ATTACH;FMTTYPE=image/jpeg:https://www.sgln.net.au/wp-content/uploads/2024/07/RachelsFarm_finalposter.jpg
END:VEVENT
BEGIN:VEVENT
DTSTART;TZID=Australia/Melbourne:20240815T093000
DTEND;TZID=Australia/Melbourne:20240815T143000
DTSTAMP:20260421T083224
CREATED:20240731T045536Z
LAST-MODIFIED:20240731T045536Z
UID:10034-1723714200-1723732200@www.sgln.net.au
SUMMARY:Weed and Pest Control Seminar
DESCRIPTION:Join us to hear from experts on pest animal and weed control\, \nand meet local contractors. \nTo register click here
URL:https://www.sgln.net.au/event/
ATTACH;FMTTYPE=image/png:https://www.sgln.net.au/wp-content/uploads/2024/07/Weed-and-Pest-control-Seminar.png
END:VEVENT
BEGIN:VEVENT
DTSTART;TZID=Australia/Melbourne:20240826T100000
DTEND;TZID=Australia/Melbourne:20240826T120000
DTSTAMP:20260421T083224
CREATED:20240807T050215Z
LAST-MODIFIED:20240807T050215Z
UID:10054-1724666400-1724673600@www.sgln.net.au
SUMMARY:Multispecies Coaching project\, Farm walk & hear from participants
DESCRIPTION:Year 2 of the coaching program is about to start. Join us to visit a current participant’s farm\, and hear about their experience growing multispecies for the first time \nNew participants are now invited to join SGLN’s multispecies coaching program. For more information or to submit an expression of\ninterest to join the year 2 program click here. \nOver the last year\, current participants have:\n– Attended two training workshops in spring and autumn with specialist Jade Killoran\n– visited two local farms\n– developed personalised plans for trialling multispecies on their farms\n– compared successes and challenges with other farmers during online meetings and via a chat group\n– learnt how to grow multispecies pastures successfully!\nThe new program will follow the same format with year 2 participants joining in with the current group. \nAt this field day\, we will visit Louise’s farm for the farm walk.\nLouise hadn’t grown multispecies before and was really happy with her crops: “My cows and calves thrived on the summer multispecies crop. It fed\n150-200 head for 2 and a half months!”.\nWe’ll also hear from other participants about how they found the program\, and there will be opportunities for questions. \nTo register for the day click here
URL:https://www.sgln.net.au/event/
ATTACH;FMTTYPE=:
END:VEVENT
BEGIN:VEVENT
DTSTART;TZID=Australia/Melbourne:20240829T100000
DTEND;TZID=Australia/Melbourne:20240829T150000
DTSTAMP:20260421T083224
CREATED:20240807T045518Z
LAST-MODIFIED:20240807T045518Z
UID:10048-1724925600-1724943600@www.sgln.net.au
SUMMARY:FireWise whole farm planning course - 4 sessions
DESCRIPTION:Take advantage of this limited opportunity to reduce your fire risk and lay the foundations for a productive farm business \nExperienced landcare facilitator and sustainable agriculture consultant Peter Ronalds will guide you through the process of creating a whole farm plan\nfor your property. \nThursday 29 August\,\nThursday 5 September\nThursday 12 September\nThursday 19 September \nWorkshop 1 – Farm vision & goals\, land capability and classing\, identifying natural assets.\nWorkshop 2 – Farm design\, biodiversity and shelterbelts\, firewise plantings\, weeds.\nWorkshop 3 – Soil productivity & health\, risk management\, biosecurity.\nWorkshop 4 – Documenting your vision\, setting short & medium & long term goals\, completing your farm plan. \nYour investment – $90\nIncludes poster-sized laminated aerial photograph of your farm \nFarms will be located in South Gippsland\, with locations chosen to best suit the majority of participants. \nOnly 15 spots available\, get in quick!.\nClick this link to apply LINK\nMore info: Cassie\, cassie@sgln.net.au\, 0448 739 559.
URL:https://www.sgln.net.au/event/
ATTACH;FMTTYPE=:
END:VEVENT
BEGIN:VEVENT
DTSTART;TZID=Australia/Melbourne:20240831T103000
DTEND;TZID=Australia/Melbourne:20240831T130000
DTSTAMP:20260421T083224
CREATED:20240822T014607Z
LAST-MODIFIED:20240822T014607Z
UID:10106-1725100200-1725109200@www.sgln.net.au
SUMMARY:Community Tree Planting - Apple Tree Wetlands (Postponed)
DESCRIPTION:Help Nerrena Tarwin Valley Landcare Group restore the Apple Tree Wetlands by continuing their great work planting tubestock under the old bridge on the Great Southern Rail Trail.  This beautiful site is between Koonwarra and Meeniyan\, with a short walk along the Rail Trail.  Morning tea will be provided on the bridge before planting.\n\nWhen: 10.30 for morning tea\, followed by planting\nWhere: Meet on the rail trail (2nd Tarwin River Crossing) between Koonwarra and Meeniyan.\nWear: Bring gumboots & wet weather gear as this area is a little muddy.\nFurther details on how to get there: call Sue Miles 0432 379 119.
URL:https://www.sgln.net.au/event/
CATEGORIES:Tree Planting
ATTACH;FMTTYPE=image/jpeg:https://www.sgln.net.au/wp-content/uploads/2024/08/unnamed-2.jpg
END:VEVENT
END:VCALENDAR