BEGIN:VCALENDAR
VERSION:2.0
PRODID:-//South Gippsland Landcare Network - ECPv6.15.20//NONSGML v1.0//EN
CALSCALE:GREGORIAN
METHOD:PUBLISH
X-WR-CALNAME:South Gippsland Landcare Network
X-ORIGINAL-URL:https://www.sgln.net.au
X-WR-CALDESC:Events for South Gippsland Landcare Network
REFRESH-INTERVAL;VALUE=DURATION:PT1H
X-Robots-Tag:noindex
X-PUBLISHED-TTL:PT1H
BEGIN:VTIMEZONE
TZID:Australia/Melbourne
BEGIN:STANDARD
TZOFFSETFROM:+1100
TZOFFSETTO:+1000
TZNAME:AEST
DTSTART:20230401T160000
END:STANDARD
BEGIN:DAYLIGHT
TZOFFSETFROM:+1000
TZOFFSETTO:+1100
TZNAME:AEDT
DTSTART:20230930T160000
END:DAYLIGHT
BEGIN:STANDARD
TZOFFSETFROM:+1100
TZOFFSETTO:+1000
TZNAME:AEST
DTSTART:20240406T160000
END:STANDARD
BEGIN:DAYLIGHT
TZOFFSETFROM:+1000
TZOFFSETTO:+1100
TZNAME:AEDT
DTSTART:20241005T160000
END:DAYLIGHT
BEGIN:STANDARD
TZOFFSETFROM:+1100
TZOFFSETTO:+1000
TZNAME:AEST
DTSTART:20250405T160000
END:STANDARD
BEGIN:DAYLIGHT
TZOFFSETFROM:+1000
TZOFFSETTO:+1100
TZNAME:AEDT
DTSTART:20251004T160000
END:DAYLIGHT
END:VTIMEZONE
BEGIN:VEVENT
DTSTART;TZID=Australia/Melbourne:20240601T100000
DTEND;TZID=Australia/Melbourne:20240601T120000
DTSTAMP:20260421T185416
CREATED:20240508T043657Z
LAST-MODIFIED:20240508T043657Z
UID:9650-1717236000-1717243200@www.sgln.net.au
SUMMARY:Planting Day to help restore the Upper Tarwin.
DESCRIPTION:This winter SGLN is providing opportunities for everyone to join a local tree planting at 4 events across the network. \nCome along to this tree planting in Allambee South to help protect the upper Tarwin River.  Refreshments and lunch provided after tree planting. \nFor all the details and to register your attendance please click here: \nhttps://events.humanitix.com/public-tree-planting-day-2 \n 
URL:https://www.sgln.net.au/event/
ATTACH;FMTTYPE=:
END:VEVENT
BEGIN:VEVENT
DTSTART;TZID=Australia/Melbourne:20240605T100000
DTEND;TZID=Australia/Melbourne:20240605T120000
DTSTAMP:20260421T185416
CREATED:20240505T010453Z
LAST-MODIFIED:20240505T010453Z
UID:9620-1717581600-1717588800@www.sgln.net.au
SUMMARY:Biodiversity Protection Plan Community Information session
DESCRIPTION:SAVE THE DATE FOR THE BPP INFO SESSION\nSouth Gippsland Landcare Network has developed a Biodiversity Protection Plan (BPP) for South Gippsland to guide a coordinated response for improving the natural environment in the region. We are seeking community and stakeholder feedback on the final draft. \nPlease join us and share your feedback on the BPP at a Community Information Session on Wednesday 5 June from 10am to 12noon at the Korumburra Community Centre. \nIn 2021\, South Gippsland Landcare Network identified the need for a BPP and brought together a broad cross-section of the community\, from individuals and small community groups to large organisations\, to discover what can and needs to be done to protect South Gippsland’s natural environment.  The BPP is an ambitious 10-year plan that identifies improvements needed to protect biodiversity in South Gippsland. \nAt the community information session we will describe the process we’ve used to develop the BPP\, its structure and how we intend for it to operate in the future. You will be able to review the actions contained in the BPP and discuss them one-on-one with our staff and volunteers. \nWe’d love to see you there and hear your feedback!  \nIf you can’t attend the Community Information Session\, there will be opportunities to provide your feedback online. A link to the draft BPP and online form will be emailed closer to the start of the feedback period which will run from Tuesday 28 May to Wednesday 12 June.\nWe are extremely excited to be presenting the BPP to the public and thank everyone who has participated in our workshops and surveys\, contributed data and reviewed drafts of the BPP. It has been a long process\, and we are grateful to everyone for their time and support. \nREGISTER HERE \n  \n\n\n\nWhat:  Biodiversity Protection Plan Community Information session\nWhen: Wednesday June 5\, 2024 – World Environment Day!\nWhere: Korumburra Community Centre\nTea\, coffee and morning tea provided\nPlease feel free to bring your laptop/tablet for entering feedback. Paper feedback forms will also be available.
URL:https://www.sgln.net.au/event/
CATEGORIES:Forum
ATTACH;FMTTYPE=image/png:https://www.sgln.net.au/wp-content/uploads/2024/05/SAVE-THE-DATE-BPP.png
END:VEVENT
BEGIN:VEVENT
DTSTART;TZID=Australia/Melbourne:20240622T100000
DTEND;TZID=Australia/Melbourne:20240622T123000
DTSTAMP:20260421T185416
CREATED:20240528T065022Z
LAST-MODIFIED:20240528T065022Z
UID:9886-1719050400-1719059400@www.sgln.net.au
SUMMARY:Planting Day to Create Koala Habitat near Foster/Toora
DESCRIPTION:This winter SGLN is providing opportunities for everyone to join a local tree planting at 4 events across the network. \nOn June 22 we hope to plant over 2500 trees to increase koala habitat close to the Franklin River\, a well known koala corridor.  \nVolunteers will be rewarded with spectacular views to Corner Inlet and a great lunch and refreshments afterwards! \nSee flyer attached for details.  Please RSVP to nick.stephens@sgln.net.au
URL:https://www.sgln.net.au/event/
ATTACH;FMTTYPE=application/pdf:https://www.sgln.net.au/wp-content/uploads/2024/05/Koala-Habitat-Planting-22-June.pdf
END:VEVENT
END:VCALENDAR