BEGIN:VCALENDAR
VERSION:2.0
PRODID:-//South Gippsland Landcare Network - ECPv6.15.20//NONSGML v1.0//EN
CALSCALE:GREGORIAN
METHOD:PUBLISH
X-ORIGINAL-URL:https://www.sgln.net.au
X-WR-CALDESC:Events for South Gippsland Landcare Network
REFRESH-INTERVAL;VALUE=DURATION:PT1H
X-Robots-Tag:noindex
X-PUBLISHED-TTL:PT1H
BEGIN:VTIMEZONE
TZID:Australia/Melbourne
BEGIN:STANDARD
TZOFFSETFROM:+1100
TZOFFSETTO:+1000
TZNAME:AEST
DTSTART:20250405T160000
END:STANDARD
BEGIN:DAYLIGHT
TZOFFSETFROM:+1000
TZOFFSETTO:+1100
TZNAME:AEDT
DTSTART:20251004T160000
END:DAYLIGHT
BEGIN:STANDARD
TZOFFSETFROM:+1100
TZOFFSETTO:+1000
TZNAME:AEST
DTSTART:20260404T160000
END:STANDARD
BEGIN:DAYLIGHT
TZOFFSETFROM:+1000
TZOFFSETTO:+1100
TZNAME:AEDT
DTSTART:20261003T160000
END:DAYLIGHT
BEGIN:STANDARD
TZOFFSETFROM:+1100
TZOFFSETTO:+1000
TZNAME:AEST
DTSTART:20270403T160000
END:STANDARD
BEGIN:DAYLIGHT
TZOFFSETFROM:+1000
TZOFFSETTO:+1100
TZNAME:AEDT
DTSTART:20271002T160000
END:DAYLIGHT
END:VTIMEZONE
BEGIN:VEVENT
DTSTART;TZID=Australia/Melbourne:20260521T113000
DTEND;TZID=Australia/Melbourne:20260521T143000
DTSTAMP:20260420T181634
CREATED:20260420T044858Z
LAST-MODIFIED:20260420T044858Z
UID:13202-1779363000-1779373800@www.sgln.net.au
SUMMARY:Map Your Weeds! - Google Earth and Google My Maps workshop + weed control advice
DESCRIPTION:In this workshop\, you’ll learn the basics of Google Earth mapping and how this technology can help you manage and track weed control. \nOur presenter Michele Sabto has over 20 years of experience using mapping software and teaching others how to use it. \nParticipants will learn how to: \n\nCreate maps of planned works in Google Earth and Google My Maps including drawing polygons.\nMark sections of their property requiring weed control.\nAdd placemark labels and organise folders.\nExport\, convert\, compress and resize maps and files.\nShare maps with others.\n\nWhat to bring: \nPlease bring your own laptops\, and download Google Earth onto your computers in preparation for the workshop. You are encouraged to bring along weeds samples for identification\, and get advice on chemical and non-chemical control methods. \nThis workshop is limited to 20 people to ensure that everyone has the chance to ask questions and get advice on their own project ideas. \nBooking Essential\,  Register HERE. Lunch included. Please email dietary requirements to kirby@sgln.net.au
URL:https://www.sgln.net.au/event/map-your-weeds-google-earth-and-google-my-maps-workshop-weed-control-advice/
ATTACH;FMTTYPE=image/webp:https://www.sgln.net.au/wp-content/uploads/2026/04/a5d443c1-aef7-4456-87f5-4dfe81dd3049@responsive-2400.webp
END:VEVENT
END:VCALENDAR