BEGIN:VCALENDAR
VERSION:2.0
PRODID:-//South Gippsland Landcare Network - ECPv6.15.20//NONSGML v1.0//EN
CALSCALE:GREGORIAN
METHOD:PUBLISH
X-WR-CALNAME:South Gippsland Landcare Network
X-ORIGINAL-URL:https://www.sgln.net.au
X-WR-CALDESC:Events for South Gippsland Landcare Network
REFRESH-INTERVAL;VALUE=DURATION:PT1H
X-Robots-Tag:noindex
X-PUBLISHED-TTL:PT1H
BEGIN:VTIMEZONE
TZID:Australia/Melbourne
BEGIN:STANDARD
TZOFFSETFROM:+1100
TZOFFSETTO:+1000
TZNAME:AEST
DTSTART:20220402T160000
END:STANDARD
BEGIN:DAYLIGHT
TZOFFSETFROM:+1000
TZOFFSETTO:+1100
TZNAME:AEDT
DTSTART:20221001T160000
END:DAYLIGHT
BEGIN:STANDARD
TZOFFSETFROM:+1100
TZOFFSETTO:+1000
TZNAME:AEST
DTSTART:20230401T160000
END:STANDARD
BEGIN:DAYLIGHT
TZOFFSETFROM:+1000
TZOFFSETTO:+1100
TZNAME:AEDT
DTSTART:20230930T160000
END:DAYLIGHT
BEGIN:STANDARD
TZOFFSETFROM:+1100
TZOFFSETTO:+1000
TZNAME:AEST
DTSTART:20240406T160000
END:STANDARD
BEGIN:DAYLIGHT
TZOFFSETFROM:+1000
TZOFFSETTO:+1100
TZNAME:AEDT
DTSTART:20241005T160000
END:DAYLIGHT
END:VTIMEZONE
BEGIN:VEVENT
DTSTART;TZID=Australia/Melbourne:20231125T100000
DTEND;TZID=Australia/Melbourne:20231125T123000
DTSTAMP:20260423T201655
CREATED:20231030T012205Z
LAST-MODIFIED:20231030T012205Z
UID:9004-1700906400-1700915400@www.sgln.net.au
SUMMARY:HEALTHY SOILS FOR WEED MANAGEMENT
DESCRIPTION:HEALTHY SOILS FOR WEED MANAGEMENT \nLearn how to reduce weeds on your property through soil management. \nSouth Gippsland Landcare Network invite you to learn from prominent soil scientist Declan McDonald on how to improve soil management to reduce weed infestation such as Ragwort and achieve a myriad of other on-farm benefits.  Declan McDonald Declan is a Principal Soil Scientist with ReGen Soils. He has extensive experience working in agriculture and production horticulture. Skilled in Regenerative Agriculture Declan has worked closely with farmers and other land managers on a range of projects with Landcare and Producer groups. Declan has an undergraduate degree in Horticulture and a Master’s Degree focused on Sustainable Agriculture (Soils) from University of Sydney. This event is funded via Agriculture Victoria’s Partnership Against Pests program. \nWhen: Saturday 25 November; 10am – 12:30pm (Registrations open 9:45am) \nWhere: Hallston Hall. 2650 Grand Ridge Road\, Hallston \nWhat to bring \n\nNotepad and pen\nHat\, sunscreen\n\nRegistration \nFor planning and catering purposes please register HERE \nMore information: jane@sgln.net.au or call 0419 761 531
URL:https://www.sgln.net.au/event/
CATEGORIES:Workshop
ATTACH;FMTTYPE=image/jpeg:https://www.sgln.net.au/wp-content/uploads/2017/03/ragwort.jpg
END:VEVENT
END:VCALENDAR