BEGIN:VCALENDAR
VERSION:2.0
PRODID:-//South Gippsland Landcare Network - ECPv6.15.20//NONSGML v1.0//EN
CALSCALE:GREGORIAN
METHOD:PUBLISH
X-ORIGINAL-URL:https://www.sgln.net.au
X-WR-CALDESC:Events for South Gippsland Landcare Network
REFRESH-INTERVAL;VALUE=DURATION:PT1H
X-Robots-Tag:noindex
X-PUBLISHED-TTL:PT1H
BEGIN:VTIMEZONE
TZID:Australia/Melbourne
BEGIN:STANDARD
TZOFFSETFROM:+1100
TZOFFSETTO:+1000
TZNAME:AEST
DTSTART:20240406T160000
END:STANDARD
BEGIN:DAYLIGHT
TZOFFSETFROM:+1000
TZOFFSETTO:+1100
TZNAME:AEDT
DTSTART:20241005T160000
END:DAYLIGHT
BEGIN:STANDARD
TZOFFSETFROM:+1100
TZOFFSETTO:+1000
TZNAME:AEST
DTSTART:20250405T160000
END:STANDARD
BEGIN:DAYLIGHT
TZOFFSETFROM:+1000
TZOFFSETTO:+1100
TZNAME:AEDT
DTSTART:20251004T160000
END:DAYLIGHT
BEGIN:STANDARD
TZOFFSETFROM:+1100
TZOFFSETTO:+1000
TZNAME:AEST
DTSTART:20260404T160000
END:STANDARD
BEGIN:DAYLIGHT
TZOFFSETFROM:+1000
TZOFFSETTO:+1100
TZNAME:AEDT
DTSTART:20261003T160000
END:DAYLIGHT
END:VTIMEZONE
BEGIN:VEVENT
DTSTART;TZID=Australia/Melbourne:20250712T093000
DTEND;TZID=Australia/Melbourne:20250712T123000
DTSTAMP:20260420T065036
CREATED:20250626T070939Z
LAST-MODIFIED:20250626T070939Z
UID:11195-1752312600-1752323400@www.sgln.net.au
SUMMARY:Native seedling planting next to Giant Gippsland Earthworm colony
DESCRIPTION:Save our threatened species! Plant seedlings next to Giant Gippsland Earthworm colonies \nJoin South Gippsland Landcare Network and the Gippsland Threatened Species Action Group at this planting day which aims to put indigenous species back into these steep gullies\, next to (not on top of) where the threatened earthworms can be found. \nRegister here  \nThis planting is in Ranceby\, 10min north of Arawata. The address will be sent to those who register closer to the time. \nPlease note there is a moderately steep 500m walk to the planting site. A moderate level of fitness is required. If you are looking for a planting day for small children our Pedal and Plant event will be a lot more suitable 🙂 \nLunch will be provided after planting. \nPlease note there are no toilets on site. \nThis is a beautiful site with threatened Eucalypt species as well as Giant Gippsland Earthworms. Join us to help restore the health of this gully and the threatened species found there. \nFor further info contact Cassie\, cassie@sgln.net.au\, 0448 739 559.
URL:https://www.sgln.net.au/event/native-seedling-planting-next-to-giant-gippsland-earthworm-colony/
CATEGORIES:Tree Planting
ATTACH;FMTTYPE=image/jpeg:https://www.sgln.net.au/wp-content/uploads/2025/06/IMG_5278-scaled-1.jpg
END:VEVENT
END:VCALENDAR