BEGIN:VCALENDAR
VERSION:2.0
PRODID:-//South Gippsland Landcare Network - ECPv6.15.20//NONSGML v1.0//EN
CALSCALE:GREGORIAN
METHOD:PUBLISH
X-ORIGINAL-URL:https://www.sgln.net.au
X-WR-CALDESC:Events for South Gippsland Landcare Network
REFRESH-INTERVAL;VALUE=DURATION:PT1H
X-Robots-Tag:noindex
X-PUBLISHED-TTL:PT1H
BEGIN:VTIMEZONE
TZID:Australia/Melbourne
BEGIN:STANDARD
TZOFFSETFROM:+1100
TZOFFSETTO:+1000
TZNAME:AEST
DTSTART:20240406T160000
END:STANDARD
BEGIN:DAYLIGHT
TZOFFSETFROM:+1000
TZOFFSETTO:+1100
TZNAME:AEDT
DTSTART:20241005T160000
END:DAYLIGHT
BEGIN:STANDARD
TZOFFSETFROM:+1100
TZOFFSETTO:+1000
TZNAME:AEST
DTSTART:20250405T160000
END:STANDARD
BEGIN:DAYLIGHT
TZOFFSETFROM:+1000
TZOFFSETTO:+1100
TZNAME:AEDT
DTSTART:20251004T160000
END:DAYLIGHT
BEGIN:STANDARD
TZOFFSETFROM:+1100
TZOFFSETTO:+1000
TZNAME:AEST
DTSTART:20260404T160000
END:STANDARD
BEGIN:DAYLIGHT
TZOFFSETFROM:+1000
TZOFFSETTO:+1100
TZNAME:AEDT
DTSTART:20261003T160000
END:DAYLIGHT
END:VTIMEZONE
BEGIN:VEVENT
DTSTART;TZID=Australia/Melbourne:20250705T093000
DTEND;TZID=Australia/Melbourne:20250705T123000
DTSTAMP:20260420T064919
CREATED:20250626T065102Z
LAST-MODIFIED:20250626T065102Z
UID:11189-1751707800-1751718600@www.sgln.net.au
SUMMARY:Tree planting next to Giant Gippsland Earthworm colony
DESCRIPTION:Save our threatened species! Plant trees as part of a project to help Giant Gippsland Earthworm colonies. \nJoin Landcare at this tree planting field day which aims to put indigenous species back into these steep gullies\, next to where the threatened earthworms can be found. This is a modified planting method which plants next to (not on top of) the GGE colonies\, to avoid the risk of drying out the soil where GGEs are found. \nPlease note this planting site is uneven\, steep and may be slippery. A moderate level of fitness is required. \nIf you are looking for a planting day for small children our Pedal and Plant event will be a lot more suitable 🙂 \nRegister here \nMorning tea will be provided. \nPlease note there are no toilets on site. The site is at Ranceby\, 10min north of Korumburra. The address will be sent closer to the time. \nFor further info contact Cassie\, cassie@sgln.net.au\, 0448 739 559. \n 
URL:https://www.sgln.net.au/event/tree-planting-next-to-giant-gippsland-earthworm-colony/
CATEGORIES:Tree Planting
ATTACH;FMTTYPE=:
END:VEVENT
END:VCALENDAR