BEGIN:VCALENDAR
VERSION:2.0
PRODID:-//South Gippsland Landcare Network - ECPv6.15.20//NONSGML v1.0//EN
CALSCALE:GREGORIAN
METHOD:PUBLISH
X-ORIGINAL-URL:https://www.sgln.net.au
X-WR-CALDESC:Events for South Gippsland Landcare Network
REFRESH-INTERVAL;VALUE=DURATION:PT1H
X-Robots-Tag:noindex
X-PUBLISHED-TTL:PT1H
BEGIN:VTIMEZONE
TZID:Australia/Melbourne
BEGIN:STANDARD
TZOFFSETFROM:+1100
TZOFFSETTO:+1000
TZNAME:AEST
DTSTART:20220402T160000
END:STANDARD
BEGIN:DAYLIGHT
TZOFFSETFROM:+1000
TZOFFSETTO:+1100
TZNAME:AEDT
DTSTART:20221001T160000
END:DAYLIGHT
BEGIN:STANDARD
TZOFFSETFROM:+1100
TZOFFSETTO:+1000
TZNAME:AEST
DTSTART:20230401T160000
END:STANDARD
BEGIN:DAYLIGHT
TZOFFSETFROM:+1000
TZOFFSETTO:+1100
TZNAME:AEDT
DTSTART:20230930T160000
END:DAYLIGHT
BEGIN:STANDARD
TZOFFSETFROM:+1100
TZOFFSETTO:+1000
TZNAME:AEST
DTSTART:20240406T160000
END:STANDARD
BEGIN:DAYLIGHT
TZOFFSETFROM:+1000
TZOFFSETTO:+1100
TZNAME:AEDT
DTSTART:20241005T160000
END:DAYLIGHT
END:VTIMEZONE
BEGIN:VEVENT
DTSTART;TZID=Australia/Melbourne:20231205T100000
DTEND;TZID=Australia/Melbourne:20231205T140000
DTSTAMP:20260423T202245
CREATED:20231121T043342Z
LAST-MODIFIED:20231121T043342Z
UID:9043-1701770400-1701784800@www.sgln.net.au
SUMMARY:First Aid Training for Landcarers
DESCRIPTION:First Aid Training for Landcarers \n\n\n\nWhether you’re involved in running Landcare events or out and about on your own property knowing the basics of first aid can literally save a life. SGLN have organised for HealthGuard First Aid Training Services to deliver a four hour first aid training session tailored to Landcarers. The training will be held in Leongatha.  \n\n\n\nDetails are as follows: \n\n\n\nDate:     5 December 2023 Time:     10am-2pm Where: 2 Bellingham St\, Leongatha RSPV:     29 November 2023 to Jane Mckenzie-Smith or register via EventBrite Cost:      $150 per person (SGLN will invoice you on registration) \n\n\n\n\nREGISTER HERE
URL:https://www.sgln.net.au/event/
CATEGORIES:Training
END:VEVENT
END:VCALENDAR