BEGIN:VCALENDAR
VERSION:2.0
PRODID:-//South Gippsland Landcare Network - ECPv6.15.20//NONSGML v1.0//EN
CALSCALE:GREGORIAN
METHOD:PUBLISH
X-WR-CALNAME:South Gippsland Landcare Network
X-ORIGINAL-URL:https://www.sgln.net.au
X-WR-CALDESC:Events for South Gippsland Landcare Network
REFRESH-INTERVAL;VALUE=DURATION:PT1H
X-Robots-Tag:noindex
X-PUBLISHED-TTL:PT1H
BEGIN:VTIMEZONE
TZID:Australia/Melbourne
BEGIN:STANDARD
TZOFFSETFROM:+1100
TZOFFSETTO:+1000
TZNAME:AEST
DTSTART:20240406T160000
END:STANDARD
BEGIN:DAYLIGHT
TZOFFSETFROM:+1000
TZOFFSETTO:+1100
TZNAME:AEDT
DTSTART:20241005T160000
END:DAYLIGHT
BEGIN:STANDARD
TZOFFSETFROM:+1100
TZOFFSETTO:+1000
TZNAME:AEST
DTSTART:20250405T160000
END:STANDARD
BEGIN:DAYLIGHT
TZOFFSETFROM:+1000
TZOFFSETTO:+1100
TZNAME:AEDT
DTSTART:20251004T160000
END:DAYLIGHT
BEGIN:STANDARD
TZOFFSETFROM:+1100
TZOFFSETTO:+1000
TZNAME:AEST
DTSTART:20260404T160000
END:STANDARD
BEGIN:DAYLIGHT
TZOFFSETFROM:+1000
TZOFFSETTO:+1100
TZNAME:AEDT
DTSTART:20261003T160000
END:DAYLIGHT
END:VTIMEZONE
BEGIN:VEVENT
DTSTART;TZID=Australia/Melbourne:20250227T100000
DTEND;TZID=Australia/Melbourne:20250227T140000
DTSTAMP:20260420T044356
CREATED:20250131T002529Z
LAST-MODIFIED:20250131T002529Z
UID:10586-1740650400-1740664800@www.sgln.net.au
SUMMARY:Best practice Rabbit and Fox Control.
DESCRIPTION:Best practice Rabbit and Fox Control. Workshop and Field Demonstration \nRIGHT NOW IS THE KEY TIME FOR RABBIT CONTROL \nWhen the ground is dry and food becomes more scarce it is the best time to control rabbits. \nAt this workshop Aaron Stephens head of the bass coast Invasive Species Team will discuss how to run an multi pronged control program on your property giving you the best results. We will also cover the best options for fox control. \nEcologist Peter Gannon will discuss wildlife of South Gippsland that is impacted or threatened by these introduced pests. \nWe will then visit a nearby property for a practical demonstration of laying bait trails\, setting traps and using a fumigation device. For demonstration purposes no toxic chemicals will be used. \nLunch and refreshments provided \nRegister via this link \nQuestions to kirby@sgln.net.au \nThis project is supported by the Victorian Government through the Partnerships against Pests program
URL:https://www.sgln.net.au/event/best-practice-rabbit-and-fox-control/
LOCATION:VIC
CATEGORIES:Field Day,Workshop
ATTACH;FMTTYPE=image/jpeg:https://www.sgln.net.au/wp-content/uploads/2024/08/rabbit.jpg
END:VEVENT
END:VCALENDAR