BEGIN:VCALENDAR
VERSION:2.0
PRODID:-//South Gippsland Landcare Network - ECPv6.15.20//NONSGML v1.0//EN
CALSCALE:GREGORIAN
METHOD:PUBLISH
X-WR-CALNAME:South Gippsland Landcare Network
X-ORIGINAL-URL:https://www.sgln.net.au
X-WR-CALDESC:Events for South Gippsland Landcare Network
REFRESH-INTERVAL;VALUE=DURATION:PT1H
X-Robots-Tag:noindex
X-PUBLISHED-TTL:PT1H
BEGIN:VTIMEZONE
TZID:Australia/Melbourne
BEGIN:STANDARD
TZOFFSETFROM:+1100
TZOFFSETTO:+1000
TZNAME:AEST
DTSTART:20240406T160000
END:STANDARD
BEGIN:DAYLIGHT
TZOFFSETFROM:+1000
TZOFFSETTO:+1100
TZNAME:AEDT
DTSTART:20241005T160000
END:DAYLIGHT
BEGIN:STANDARD
TZOFFSETFROM:+1100
TZOFFSETTO:+1000
TZNAME:AEST
DTSTART:20250405T160000
END:STANDARD
BEGIN:DAYLIGHT
TZOFFSETFROM:+1000
TZOFFSETTO:+1100
TZNAME:AEDT
DTSTART:20251004T160000
END:DAYLIGHT
BEGIN:STANDARD
TZOFFSETFROM:+1100
TZOFFSETTO:+1000
TZNAME:AEST
DTSTART:20260404T160000
END:STANDARD
BEGIN:DAYLIGHT
TZOFFSETFROM:+1000
TZOFFSETTO:+1100
TZNAME:AEDT
DTSTART:20261003T160000
END:DAYLIGHT
END:VTIMEZONE
BEGIN:VEVENT
DTSTART;TZID=Australia/Melbourne:20250223T073000
DTEND;TZID=Australia/Melbourne:20250223T120000
DTSTAMP:20260420T091323
CREATED:20241201T024933Z
LAST-MODIFIED:20241201T024933Z
UID:10470-1740295800-1740312000@www.sgln.net.au
SUMMARY:Platypus Prowl
DESCRIPTION:When: Sunday\, 23 February\, 7:30 AM\nWhere: Marks Bridge\, corner Allambee Estate Rd and Yarragon-Leongatha Rd\, Hallston \n  \nTake an early morning walk along the Tawrin River with Gemma Snowball from Ecology Australia to spot platypuses in their natural habitat. Afterwards\, enjoy a presentation at Hallston Valley Farm\, where Gemma will share her research and insights into these unique creatures. \nEvent highlights: \n\nPlatypus spotting along a scenic river.\nExpert insights into conservation efforts.\nA relaxing and educational morning immersed in nature.\n\nFree Event. Registrations Essential: https://events.humanitix.com/platypus-prowl-on-the-tarwin \nTea/coffee and morning tea provided.
URL:https://www.sgln.net.au/event/platypus-prowl/
LOCATION:VIC
ATTACH;FMTTYPE=image/jpeg:https://www.sgln.net.au/wp-content/uploads/2024/12/platypus-image-1-e1733021310809.jpg
END:VEVENT
END:VCALENDAR