BEGIN:VCALENDAR
VERSION:2.0
PRODID:-//South Gippsland Landcare Network - ECPv6.15.20//NONSGML v1.0//EN
CALSCALE:GREGORIAN
METHOD:PUBLISH
X-WR-CALNAME:South Gippsland Landcare Network
X-ORIGINAL-URL:https://www.sgln.net.au
X-WR-CALDESC:Events for South Gippsland Landcare Network
REFRESH-INTERVAL;VALUE=DURATION:PT1H
X-Robots-Tag:noindex
X-PUBLISHED-TTL:PT1H
BEGIN:VTIMEZONE
TZID:Australia/Melbourne
BEGIN:STANDARD
TZOFFSETFROM:+1100
TZOFFSETTO:+1000
TZNAME:AEST
DTSTART:20240406T160000
END:STANDARD
BEGIN:DAYLIGHT
TZOFFSETFROM:+1000
TZOFFSETTO:+1100
TZNAME:AEDT
DTSTART:20241005T160000
END:DAYLIGHT
BEGIN:STANDARD
TZOFFSETFROM:+1100
TZOFFSETTO:+1000
TZNAME:AEST
DTSTART:20250405T160000
END:STANDARD
BEGIN:DAYLIGHT
TZOFFSETFROM:+1000
TZOFFSETTO:+1100
TZNAME:AEDT
DTSTART:20251004T160000
END:DAYLIGHT
BEGIN:STANDARD
TZOFFSETFROM:+1100
TZOFFSETTO:+1000
TZNAME:AEST
DTSTART:20260404T160000
END:STANDARD
BEGIN:DAYLIGHT
TZOFFSETFROM:+1000
TZOFFSETTO:+1100
TZNAME:AEDT
DTSTART:20261003T160000
END:DAYLIGHT
END:VTIMEZONE
BEGIN:VEVENT
DTSTART;TZID=Australia/Melbourne:20250108T100000
DTEND;TZID=Australia/Melbourne:20250108T130000
DTSTAMP:20260420T134329
CREATED:20241113T234613Z
LAST-MODIFIED:20241113T234613Z
UID:10438-1736330400-1736341200@www.sgln.net.au
SUMMARY:Bring the Kids - Bug Discovery Day\, Free Education Event
DESCRIPTION:Get ‘hands on’ with nature and discover our local biodiversity!   Landcare is teaming up with the Bug Blitz crew to bring you a fun and educational day out . \nCatch some bugs and look at them on the big screen – discover bugs in the water\, bugs in the grass\, bugs in the bush and what they mean for a healthy environment.  The session also includes water testing and art activities on what a healthy stream should look like. \nFor more details call Nick Stephens 0499 271 251 or email nick.stephens@sgln.net.au \nFree Event. Registrations essential: https://events.humanitix.com/bug-blitz-bug-discovery-day \nBug Blitz is a not-for-profit initiative\, integrating scientific\, educational and creative opportunities to stimulate an active interest in biodiversity. \nhttps://www.facebook.com/BugBlitzTrust/ \nPart of the Reviving Rivers & Landcare Project\, delivered with funds from the Victorian Landcare Grants.
URL:https://www.sgln.net.au/event/
LOCATION:VIC
ATTACH;FMTTYPE=image/png:https://www.sgln.net.au/wp-content/uploads/2024/11/bug-blitz.png
END:VEVENT
END:VCALENDAR