BEGIN:VCALENDAR
VERSION:2.0
PRODID:-//South Gippsland Landcare Network - ECPv6.15.20//NONSGML v1.0//EN
CALSCALE:GREGORIAN
METHOD:PUBLISH
X-ORIGINAL-URL:https://www.sgln.net.au
X-WR-CALDESC:Events for South Gippsland Landcare Network
REFRESH-INTERVAL;VALUE=DURATION:PT1H
X-Robots-Tag:noindex
X-PUBLISHED-TTL:PT1H
BEGIN:VTIMEZONE
TZID:Australia/Melbourne
BEGIN:STANDARD
TZOFFSETFROM:+1100
TZOFFSETTO:+1000
TZNAME:AEST
DTSTART:20230401T160000
END:STANDARD
BEGIN:DAYLIGHT
TZOFFSETFROM:+1000
TZOFFSETTO:+1100
TZNAME:AEDT
DTSTART:20230930T160000
END:DAYLIGHT
BEGIN:STANDARD
TZOFFSETFROM:+1100
TZOFFSETTO:+1000
TZNAME:AEST
DTSTART:20240406T160000
END:STANDARD
BEGIN:DAYLIGHT
TZOFFSETFROM:+1000
TZOFFSETTO:+1100
TZNAME:AEDT
DTSTART:20241005T160000
END:DAYLIGHT
BEGIN:STANDARD
TZOFFSETFROM:+1100
TZOFFSETTO:+1000
TZNAME:AEST
DTSTART:20250405T160000
END:STANDARD
BEGIN:DAYLIGHT
TZOFFSETFROM:+1000
TZOFFSETTO:+1100
TZNAME:AEDT
DTSTART:20251004T160000
END:DAYLIGHT
END:VTIMEZONE
BEGIN:VEVENT
DTSTART;TZID=Australia/Melbourne:20240514T190000
DTEND;TZID=Australia/Melbourne:20240514T190000
DTSTAMP:20260422T045128
CREATED:20240505T010000Z
LAST-MODIFIED:20240505T010000Z
UID:9611-1715713200-1715713200@www.sgln.net.au
SUMMARY:Recovery – Replant – Renew information evening: Mirboo North
DESCRIPTION:Recovery – Replant – Renew information evening: Mirboo North \nIf you are concerned about what to plant after the 13th of February super-storm or what the plans are to revegetate our severely damaged Reserves and roadside verges then this event is a must. \nThe Mirboo North community have brought together a broad range of speakers from Parks Vic\, Preserve our Forests Mirboo North\, Friends of Baths Road Reserve\, South Gippsland Shire Council\, and others who will discuss: Recovery – Replant – Renew topics including: \n\nEffects of the storm on the local ecology\nStrategies to revegetate public & private areas\nSuggested plants to reestablish food & shelter to attract birds and animals back to the area\, and help recreate the natural beauty of Mirboo North\n\nThe speakers will form a Q&A Panel to answer all your questions on revegetation and how to rehabilitate our ecology. \nWhat: Recovery – Replant – Renew information evening \nWhen: Tuesday 14th of May 7.00PM \nWhere: Walter J Tuck Reserve Football Club Rooms Recreation Reserve\, Mirboo North VIC 3871 \nIncludes: knowledgeable guest speakers\, door prize & a cuppa!! \nRSVP: Denyse Menzies: denyse@menziesco.com.au 0417 566 783 \nMore information: Denyse Menzies: denyse@menziesco.com.au 0417 566 783  OR Marg Thomas: preserveourforestsmn@yahoo. com 0408 319 397 \nSupported by the Mirboo North & District Storm Recovery Working Group
URL:https://www.sgln.net.au/event/
CATEGORIES:Forum
ATTACH;FMTTYPE=image/jpeg:https://www.sgln.net.au/wp-content/uploads/2024/05/Reveg-Info-Night_Social-media_DRAFT-.jpeg
END:VEVENT
END:VCALENDAR