BEGIN:VCALENDAR
VERSION:2.0
PRODID:-//South Gippsland Landcare Network - ECPv6.15.20//NONSGML v1.0//EN
CALSCALE:GREGORIAN
METHOD:PUBLISH
X-ORIGINAL-URL:https://www.sgln.net.au
X-WR-CALDESC:Events for South Gippsland Landcare Network
REFRESH-INTERVAL;VALUE=DURATION:PT1H
X-Robots-Tag:noindex
X-PUBLISHED-TTL:PT1H
BEGIN:VTIMEZONE
TZID:Australia/Melbourne
BEGIN:STANDARD
TZOFFSETFROM:+1100
TZOFFSETTO:+1000
TZNAME:AEST
DTSTART:20230401T160000
END:STANDARD
BEGIN:DAYLIGHT
TZOFFSETFROM:+1000
TZOFFSETTO:+1100
TZNAME:AEDT
DTSTART:20230930T160000
END:DAYLIGHT
BEGIN:STANDARD
TZOFFSETFROM:+1100
TZOFFSETTO:+1000
TZNAME:AEST
DTSTART:20240406T160000
END:STANDARD
BEGIN:DAYLIGHT
TZOFFSETFROM:+1000
TZOFFSETTO:+1100
TZNAME:AEDT
DTSTART:20241005T160000
END:DAYLIGHT
BEGIN:STANDARD
TZOFFSETFROM:+1100
TZOFFSETTO:+1000
TZNAME:AEST
DTSTART:20250405T160000
END:STANDARD
BEGIN:DAYLIGHT
TZOFFSETFROM:+1000
TZOFFSETTO:+1100
TZNAME:AEDT
DTSTART:20251004T160000
END:DAYLIGHT
END:VTIMEZONE
BEGIN:VEVENT
DTSTART;TZID=Australia/Melbourne:20240501T100000
DTEND;TZID=Australia/Melbourne:20240501T140000
DTSTAMP:20260422T052030
CREATED:20240402T213708Z
LAST-MODIFIED:20240402T213708Z
UID:9279-1714557600-1714572000@www.sgln.net.au
SUMMARY:CAMERA TRAP AND PEST ANIMAL CONTROL TECHNIQUES FIELD DAY
DESCRIPTION:Landholders from across South Gippsland have been borrowing camera traps and finding out which native animals live on their properties. These animals are under threat from predation and habitat destruction from pest animals.  At the upcoming field day we’ll share the best photos taken by project participants and learn how to control pest animals and protect wildlife. \nGuest speakers: Aaron Stephens from the BCLN Invasive Species Team will discuss options for fox and rabbit control\, including a demonstration on fox baiting methods.\nRichard Francis is an ecologist with on ground deer control expertise\, he’ll cover lethal and non-lethal deer control options.\nWhen: Wed 1st May 2024\, 10:00 am – 2:00 pm\nWhere: Ruby Hall. Dykes Rd\, Ruby VIC 3953\nMorning tea and lunch provided\, registrations essential\nFor more info contact Kirby\, kirby@sgln.net.au \nREGISTER HERE
URL:https://www.sgln.net.au/event/
CATEGORIES:Field Day
ATTACH;FMTTYPE=image/jpeg:https://www.sgln.net.au/wp-content/uploads/2024/04/IMAG0002-scaled-e1712093885179.jpg
END:VEVENT
END:VCALENDAR