BEGIN:VCALENDAR
VERSION:2.0
PRODID:-//South Gippsland Landcare Network - ECPv6.15.20//NONSGML v1.0//EN
CALSCALE:GREGORIAN
METHOD:PUBLISH
X-ORIGINAL-URL:https://www.sgln.net.au
X-WR-CALDESC:Events for South Gippsland Landcare Network
REFRESH-INTERVAL;VALUE=DURATION:PT1H
X-Robots-Tag:noindex
X-PUBLISHED-TTL:PT1H
BEGIN:VTIMEZONE
TZID:Australia/Melbourne
BEGIN:STANDARD
TZOFFSETFROM:+1100
TZOFFSETTO:+1000
TZNAME:AEST
DTSTART:20220402T160000
END:STANDARD
BEGIN:DAYLIGHT
TZOFFSETFROM:+1000
TZOFFSETTO:+1100
TZNAME:AEDT
DTSTART:20221001T160000
END:DAYLIGHT
BEGIN:STANDARD
TZOFFSETFROM:+1100
TZOFFSETTO:+1000
TZNAME:AEST
DTSTART:20230401T160000
END:STANDARD
BEGIN:DAYLIGHT
TZOFFSETFROM:+1000
TZOFFSETTO:+1100
TZNAME:AEDT
DTSTART:20230930T160000
END:DAYLIGHT
BEGIN:STANDARD
TZOFFSETFROM:+1100
TZOFFSETTO:+1000
TZNAME:AEST
DTSTART:20240406T160000
END:STANDARD
BEGIN:DAYLIGHT
TZOFFSETFROM:+1000
TZOFFSETTO:+1100
TZNAME:AEDT
DTSTART:20241005T160000
END:DAYLIGHT
END:VTIMEZONE
BEGIN:VEVENT
DTSTART;TZID=Australia/Melbourne:20230926T193000
DTEND;TZID=Australia/Melbourne:20230926T203000
DTSTAMP:20260423T150820
CREATED:20230920T231159Z
LAST-MODIFIED:20230920T231159Z
UID:8940-1695756600-1695760200@www.sgln.net.au
SUMMARY:ONLINE DISCUSSION - NATIVE TITLE\, THE VOICE\, AND SOUTH GIPPSLAND
DESCRIPTION:Providing opportunities for our members to engage with and learn from our Traditional Owners is a priority for SGLN. \nOn Tuesday\, 29 September\, we are running a webinar with two First Nations leaders: Troy McDonald\, Chair of Gunaikurnai Land and Waters Aboriginal Corporation (GLaWAC) and Jamie Williamson\, consultant and previous CEO of Gippsland and East Gippsland Aboriginal Co-operative. \nThe webinar will provide information on the upcoming Voice referendum\, the role of Traditional Owners\, Gippsland’s Aboriginal histories and clarity around Native Title and the agricultural sector. \nThe webinar will feature a Q&A session. You are encouraged to submit your questions (to be read anonymously if preferred) at registration. \nWhere: Online via Zoom. Click here to register and get zoom link \nDate: Tuesday September 26\, 7.30-8.30pm \nFor more info follow this link
URL:https://www.sgln.net.au/event/
ATTACH;FMTTYPE=image/jpeg:https://www.sgln.net.au/wp-content/uploads/2023/09/voice-1.jpg
END:VEVENT
END:VCALENDAR