BEGIN:VCALENDAR
VERSION:2.0
PRODID:-//South Gippsland Landcare Network - ECPv6.15.20//NONSGML v1.0//EN
CALSCALE:GREGORIAN
METHOD:PUBLISH
X-ORIGINAL-URL:https://www.sgln.net.au
X-WR-CALDESC:Events for South Gippsland Landcare Network
REFRESH-INTERVAL;VALUE=DURATION:PT1H
X-Robots-Tag:noindex
X-PUBLISHED-TTL:PT1H
BEGIN:VTIMEZONE
TZID:Australia/Melbourne
BEGIN:STANDARD
TZOFFSETFROM:+1100
TZOFFSETTO:+1000
TZNAME:AEST
DTSTART:20220402T160000
END:STANDARD
BEGIN:DAYLIGHT
TZOFFSETFROM:+1000
TZOFFSETTO:+1100
TZNAME:AEDT
DTSTART:20221001T160000
END:DAYLIGHT
BEGIN:STANDARD
TZOFFSETFROM:+1100
TZOFFSETTO:+1000
TZNAME:AEST
DTSTART:20230401T160000
END:STANDARD
BEGIN:DAYLIGHT
TZOFFSETFROM:+1000
TZOFFSETTO:+1100
TZNAME:AEDT
DTSTART:20230930T160000
END:DAYLIGHT
BEGIN:STANDARD
TZOFFSETFROM:+1100
TZOFFSETTO:+1000
TZNAME:AEST
DTSTART:20240406T160000
END:STANDARD
BEGIN:DAYLIGHT
TZOFFSETFROM:+1000
TZOFFSETTO:+1100
TZNAME:AEDT
DTSTART:20241005T160000
END:DAYLIGHT
END:VTIMEZONE
BEGIN:VEVENT
DTSTART;TZID=Australia/Melbourne:20230825T103000
DTEND;TZID=Australia/Melbourne:20230825T140000
DTSTAMP:20260424T011434
CREATED:20230729T030730Z
LAST-MODIFIED:20230729T030730Z
UID:8791-1692959400-1692972000@www.sgln.net.au
SUMMARY:FIELD DAY: Community Information and Field Day on Giant Gippsland Earthworm Habitat\, Identification and Management.
DESCRIPTION:‘Enhanced Knowledge and Protection of the Giant Gippsland Earthworm’ project.  \nThe Bass Coast Landcare Network and project partners (including SGLN) invite you to this exciting Giant Gippsland Earthworm community information and field day. \nGiant Gippsland Earthworms are only found in an area roughly the size of 40\,000 ha in South and West Gippsland\, Victoria. The majority of its known current habitat is on farmland and farmers can play a vital role in its conservation and management. It is essential that farmers and land managers continue to work together to manage valuable habitat in ways that protect and enhance GGE habitat\, ensuring that the earthworms continue to survive and thrive. \nThis community workshop will cover: \n\nGiant Gippsland Earthworm distribution and biology\nHabitat identification and management requirements\nLandforms and associated Ecological Vegetation Classes (EVCs)\nModified revegetation planting lists and densities\nHabitat sensitive management guidelines\nA nearby farm walk to known Giant Gippsland Earthworm colonies\n\nTo RSVP please email Joel Geoghegan on joel.geoghegan@basscoastlandcare.org.au or call on 0409 705 652.
URL:https://www.sgln.net.au/event/
CATEGORIES:Field Day
ATTACH;FMTTYPE=image/jpeg:https://www.sgln.net.au/wp-content/uploads/2023/07/earthworm-habitat.jpg
END:VEVENT
END:VCALENDAR