BEGIN:VCALENDAR
VERSION:2.0
PRODID:-//South Gippsland Landcare Network - ECPv6.15.20//NONSGML v1.0//EN
CALSCALE:GREGORIAN
METHOD:PUBLISH
X-WR-CALNAME:South Gippsland Landcare Network
X-ORIGINAL-URL:https://www.sgln.net.au
X-WR-CALDESC:Events for South Gippsland Landcare Network
REFRESH-INTERVAL;VALUE=DURATION:PT1H
X-Robots-Tag:noindex
X-PUBLISHED-TTL:PT1H
BEGIN:VTIMEZONE
TZID:Australia/Melbourne
BEGIN:STANDARD
TZOFFSETFROM:+1100
TZOFFSETTO:+1000
TZNAME:AEST
DTSTART:20220402T160000
END:STANDARD
BEGIN:DAYLIGHT
TZOFFSETFROM:+1000
TZOFFSETTO:+1100
TZNAME:AEDT
DTSTART:20221001T160000
END:DAYLIGHT
BEGIN:STANDARD
TZOFFSETFROM:+1100
TZOFFSETTO:+1000
TZNAME:AEST
DTSTART:20230401T160000
END:STANDARD
BEGIN:DAYLIGHT
TZOFFSETFROM:+1000
TZOFFSETTO:+1100
TZNAME:AEDT
DTSTART:20230930T160000
END:DAYLIGHT
BEGIN:STANDARD
TZOFFSETFROM:+1100
TZOFFSETTO:+1000
TZNAME:AEST
DTSTART:20240406T160000
END:STANDARD
BEGIN:DAYLIGHT
TZOFFSETFROM:+1000
TZOFFSETTO:+1100
TZNAME:AEDT
DTSTART:20241005T160000
END:DAYLIGHT
END:VTIMEZONE
BEGIN:VEVENT
DTSTART;TZID=Australia/Melbourne:20230821T093000
DTEND;TZID=Australia/Melbourne:20230821T143000
DTSTAMP:20260424T011411
CREATED:20230730T034419Z
LAST-MODIFIED:20230730T034419Z
UID:8797-1692610200-1692628200@www.sgln.net.au
SUMMARY:Multispecies Pastures and Biofertilisers with Grant Sims Field Day
DESCRIPTION:Grant Sims is the former president of the Victorian No till Farmers Association and 2015 Coles Weekly Times Farmer of the year. Grant is a sixth generation farmer running the family farm\, which has been no till since the early ‘80’s\, and switched from granular synthetic fertilisers to biologically made liquid fertiliser in 2008. He also runs the multispecies seed business Down Under Covers.On the day we will also visit the Tracy’s dairy farm and see multispecies pastures\, including a conventional vsregenerative practices demonstration site. Grant will also do a biofertiliser demonstration. \nWhen: Monday 21 August 2023Time: 9.30am -2.30pmWhere: Sandy Point Community Centre followed by farm walk at Waratah BayMore info: cassie@sgln.net.au  0448739559 \nOr check out this video!  \n 
URL:https://www.sgln.net.au/event/
CATEGORIES:Field Day
ATTACH;FMTTYPE=image/jpeg:https://www.sgln.net.au/wp-content/uploads/2023/07/https___cdn.evbuc_.com_images_562255749_174749925253_1_original.jpg
END:VEVENT
END:VCALENDAR